BEGIN:VCALENDAR
VERSION:2.0
PRODID:icalendar-ruby
CALSCALE:GREGORIAN
METHOD:PUBLISH
BEGIN:VEVENT
DTSTAMP:20260422T001600Z
UID:10-294180@hopechurchco.com
DTSTART:20261029T010000Z
DTEND:20261029T020000Z
CLASS:PUBLIC
CREATED:20260421T163834
DESCRIPTION:
LAST-MODIFIED:20260421T163834
LOCATION:
SUMMARY:Nights of life
URL;VALUE=URI:https://www.hopechurchco.com/events/nights-of-life--10/2026-1
 0-28
ATTACH;FILENAME=3.png;FMTTYPE=image/png:https://dq5pwpg1q8ru0.cloudfront.ne
 t/2024/12/15/01/05/24/c13cb72d-401d-484c-9e02-301f265b0d6f/3.png
END:VEVENT
END:VCALENDAR
