BEGIN:VCALENDAR
VERSION:2.0
PRODID:icalendar-ruby
CALSCALE:GREGORIAN
METHOD:PUBLISH
BEGIN:VEVENT
DTSTAMP:20260421T125559Z
UID:9-293310@hopechurchco.com
DTSTART:20260913T150000Z
DTEND:20260913T170000Z
CLASS:PUBLIC
CREATED:20260421T060901
DESCRIPTION:
LAST-MODIFIED:20260421T060901
LOCATION:
SUMMARY:Experience of faith
URL;VALUE=URI:https://www.hopechurchco.com/events/experience-of-faith/2026-
 09-13
ATTACH;FILENAME=453432866_864851032339549_1114607324464061183_n.jpg;FMTTYPE
 =image/jpeg:https://dq5pwpg1q8ru0.cloudfront.net/2024/12/15/01/03/44/a8e6e
 7c1-f71e-48f7-8e83-77db5ccb8d07/453432866_864851032339549_1114607324464061
 183_n.jpg
END:VEVENT
END:VCALENDAR
